BEGIN:VCALENDAR
VERSION:2.0
PRODID:www.sfj105.org
BEGIN:VEVENT
UID:69e7358488ec4
DTSTART:20140308T170000Z
SEQUENCE:0
TRANSP:OPAQUE
DTEND:20140309T010000Z
LOCATION:Richmond YC
SUMMARY:Big Daddy
CLASS:PUBLIC
DESCRIPTION:B Season\, Weigh-in not required\, Saturday scored for the B Se
 ason
DTSTAMP:20260421T082956Z
END:VEVENT
END:VCALENDAR