BEGIN:VCALENDAR
VERSION:2.0
PRODID:www.sfj105.org
BEGIN:VEVENT
UID:69e73b9f6208a
DTSTART:20100904T160000Z
SEQUENCE:0
TRANSP:OPAQUE
DTEND:20100905T000000Z
LOCATION:Benecia YC
SUMMARY:Jazz Cup
CLASS:PUBLIC
DESCRIPTION:B Season\, Weigh-in not required
DTSTAMP:20260421T085559Z
END:VEVENT
END:VCALENDAR