BEGIN:VCALENDAR
VERSION:2.0
PRODID:www.sfj105.org
BEGIN:VEVENT
UID:69e73ba5e0557
DTSTART:20100724T160000Z
SEQUENCE:0
TRANSP:OPAQUE
DTEND:20100726T000000Z
LOCATION:Encinal YC
SUMMARY:YRA Second Half Opener
CLASS:PUBLIC
DESCRIPTION:B Season\, Weigh-in not required
DTSTAMP:20260421T085605Z
END:VEVENT
END:VCALENDAR