BEGIN:VCALENDAR
VERSION:2.0
PRODID:www.sfj105.org
BEGIN:VEVENT
UID:69e76f42b0f2b
DTSTART:20101003T160000Z
SEQUENCE:0
TRANSP:OPAQUE
DTEND:20101004T000000Z
LOCATION:San Francisco YC
SUMMARY:Leukemia Cup
CLASS:PUBLIC
DESCRIPTION:B Season\, Weigh-in not required
DTSTAMP:20260421T123618Z
END:VEVENT
END:VCALENDAR