BEGIN:VCALENDAR
VERSION:2.0
PRODID:www.sfj105.org
BEGIN:VEVENT
UID:69e73c19ed90f
DTSTART:20100814T160000Z
SEQUENCE:0
TRANSP:OPAQUE
DTEND:20100816T000000Z
LOCATION:San Francisco YC
SUMMARY:Summer Keelboat
CLASS:PUBLIC
DESCRIPTION:A Season\, Weigh-in not required
DTSTAMP:20260421T085801Z
END:VEVENT
END:VCALENDAR