BEGIN:VCALENDAR
VERSION:2.0
PRODID:www.sfj105.org
BEGIN:VEVENT
UID:69e73b6fadd1c
DTSTART:20100410T160000Z
SEQUENCE:0
TRANSP:OPAQUE
DTEND:20100412T000000Z
LOCATION:St. Francis YC
SUMMARY:J/Fest
CLASS:PUBLIC
DESCRIPTION:A Season\, Weigh-in not required
DTSTAMP:20260421T085511Z
END:VEVENT
END:VCALENDAR