BEGIN:VCALENDAR
VERSION:2.0
PRODID:www.sfj105.org
BEGIN:VEVENT
UID:69e73b47aa3f8
DTSTART:20251025T160000Z
SEQUENCE:0
TRANSP:OPAQUE
DTEND:20251027T000000Z
LOCATION:Richmond YC
SUMMARY:Great Pumpkin
CLASS:PUBLIC
DESCRIPTION:B Season\, Weigh-in not required
DTSTAMP:20260421T085431Z
END:VEVENT
END:VCALENDAR