BEGIN:VCALENDAR
VERSION:2.0
PRODID:www.sfj105.org
BEGIN:VEVENT
UID:69e76ec2ae122
DTSTART:20100320T160000Z
SEQUENCE:0
TRANSP:OPAQUE
DTEND:20100322T000000Z
LOCATION:St. Francis YC
SUMMARY:Spring One Design
CLASS:PUBLIC
DESCRIPTION:A Season\, Weigh-in  required
DTSTAMP:20260421T123410Z
END:VEVENT
END:VCALENDAR