BEGIN:VCALENDAR
VERSION:2.0
PRODID:www.sfj105.org
BEGIN:VEVENT
UID:69e73c2405706
DTSTART:20250809T160000Z
SEQUENCE:0
TRANSP:OPAQUE
DTEND:20250811T000000Z
LOCATION:San Francisco YC
SUMMARY:Summer Keelboat
CLASS:PUBLIC
DESCRIPTION:A Season\, Weigh-in not required
DTSTAMP:20260421T085812Z
END:VEVENT
END:VCALENDAR