BEGIN:VCALENDAR
VERSION:2.0
PRODID:www.sfj105.org
BEGIN:VEVENT
UID:69e73b4087d16
DTSTART:20250503T160000Z
SEQUENCE:0
TRANSP:OPAQUE
DTEND:20250505T000000Z
LOCATION:Richmond YC
SUMMARY:Vallejo Race
CLASS:PUBLIC
DESCRIPTION:B Season\, Weigh-in not required
DTSTAMP:20260421T085424Z
END:VEVENT
END:VCALENDAR