BEGIN:VCALENDAR
VERSION:2.0
PRODID:www.sfj105.org
BEGIN:VEVENT
UID:69e73c1a23d00
DTSTART:20100313T170000Z
SEQUENCE:0
TRANSP:OPAQUE
DTEND:20100314T010000Z
LOCATION:Richmond YC
SUMMARY:Big Daddy
CLASS:PUBLIC
DESCRIPTION:B Season\, Weigh-in not required
DTSTAMP:20260421T085802Z
END:VEVENT
END:VCALENDAR