BEGIN:VCALENDAR
VERSION:2.0
PRODID:www.sfj105.org
BEGIN:VEVENT
UID:69e7380a5288c
DTSTART:20241026T160000Z
SEQUENCE:0
TRANSP:OPAQUE
DTEND:20241028T000000Z
LOCATION:Richmond YC
SUMMARY:Great Pumpkin
CLASS:PUBLIC
DESCRIPTION:B Season\, Weigh-in not required
DTSTAMP:20260421T084042Z
END:VEVENT
END:VCALENDAR