BEGIN:VCALENDAR
VERSION:2.0
PRODID:www.sfj105.org
BEGIN:VEVENT
UID:69e73bc831a4a
DTSTART:20091010T160000Z
SEQUENCE:0
TRANSP:OPAQUE
DTEND:20091012T000000Z
LOCATION:San Francisco YC
SUMMARY:Belvedere Cup
CLASS:PUBLIC
DESCRIPTION:B Season\, Weigh-in not required\, Match racing event with spot
 s for 8 teams.\, URL: https://event-manager.compete-at.com/sfyc/09belvcup
DTSTAMP:20260421T085640Z
END:VEVENT
END:VCALENDAR