BEGIN:VCALENDAR
VERSION:2.0
PRODID:www.sfj105.org
BEGIN:VEVENT
UID:69e73c24ce4ff
DTSTART:20240622T160000Z
SEQUENCE:0
TRANSP:OPAQUE
DTEND:20240624T000000Z
LOCATION:South Beach YC
SUMMARY:J/Stop
CLASS:PUBLIC
DESCRIPTION:A Season\, Weigh-in not required
DTSTAMP:20260421T085812Z
END:VEVENT
END:VCALENDAR