BEGIN:VCALENDAR
VERSION:2.0
PRODID:www.sfj105.org
BEGIN:VEVENT
UID:69e73cc2de23e
DTSTART:20240406T160000Z
SEQUENCE:0
TRANSP:OPAQUE
DTEND:20240408T000000Z
LOCATION:St. Francis YC
SUMMARY:Spring Fest / Stone Cup
CLASS:PUBLIC
DESCRIPTION:A Season\, Weigh-in  required
DTSTAMP:20260421T090050Z
END:VEVENT
END:VCALENDAR