BEGIN:VCALENDAR
VERSION:2.0
PRODID:www.sfj105.org
BEGIN:VEVENT
UID:69e73c02f0f49
DTSTART:20091104T170000Z
SEQUENCE:0
TRANSP:OPAQUE
DTEND:20091105T010000Z
LOCATION:St. Francis YC
SUMMARY:Annual Business Meeting
CLASS:PUBLIC
DESCRIPTION:B Season\, Weigh-in not required
DTSTAMP:20260421T085738Z
END:VEVENT
END:VCALENDAR