BEGIN:VCALENDAR
VERSION:2.0
PRODID:www.sfj105.org
BEGIN:VEVENT
UID:69e73c6f41d88
DTSTART:20240127T170000Z
SEQUENCE:0
TRANSP:OPAQUE
DTEND:20240128T010000Z
LOCATION:Singlehanded Sailing Society
SUMMARY:Three Bridge Fiasco
CLASS:PUBLIC
DESCRIPTION:B Season\, Weigh-in not required
DTSTAMP:20260421T085927Z
END:VEVENT
END:VCALENDAR