BEGIN:VCALENDAR
VERSION:2.0
PRODID:www.sfj105.org
BEGIN:VEVENT
UID:69e73c0296eea
DTSTART:20091115T170000Z
SEQUENCE:0
TRANSP:OPAQUE
DTEND:20091116T010000Z
LOCATION:Golden Gate YC
SUMMARY:Fleet #1 Awards Dinner
CLASS:PUBLIC
DESCRIPTION:B Season\, Weigh-in not required
DTSTAMP:20260421T085738Z
END:VEVENT
END:VCALENDAR