BEGIN:VCALENDAR
VERSION:2.0
PRODID:www.sfj105.org
BEGIN:VEVENT
UID:69e73c19ea707
DTSTART:20090919T160000Z
SEQUENCE:0
TRANSP:OPAQUE
DTEND:20090921T000000Z
LOCATION:San Francisco YC
SUMMARY:Leukemia Cup
CLASS:PUBLIC
DESCRIPTION:B Season\, Weigh-in not required\, Donations appreciated.\, URL
 : http://www.leukemia-lymphoma.org/regatta/hm_reg
DTSTAMP:20260421T085801Z
END:VEVENT
END:VCALENDAR