BEGIN:VCALENDAR
VERSION:2.0
PRODID:www.sfj105.org
BEGIN:VEVENT
UID:69e73b5d96273
DTSTART:20200627T160000Z
SEQUENCE:0
TRANSP:OPAQUE
DTEND:20200629T000000Z
LOCATION:South Beach YC
SUMMARY:Bay Bridge Regatta
CLASS:PUBLIC
DESCRIPTION:A Season\, Weigh-in  required
DTSTAMP:20260421T085453Z
END:VEVENT
END:VCALENDAR