BEGIN:VCALENDAR
VERSION:2.0
PRODID:www.sfj105.org
BEGIN:VEVENT
UID:69e73bd303704
DTSTART:20090731T160000Z
SEQUENCE:0
TRANSP:OPAQUE
DTEND:20090803T000000Z
LOCATION:St. Francis YC
SUMMARY:Aldo Alessio
CLASS:PUBLIC
DESCRIPTION:A Season\, Weigh-in not required
DTSTAMP:20260421T085651Z
END:VEVENT
END:VCALENDAR