BEGIN:VCALENDAR
VERSION:2.0
PRODID:www.sfj105.org
BEGIN:VEVENT
UID:69e73c0228ac1
DTSTART:20090718T160000Z
SEQUENCE:0
TRANSP:OPAQUE
DTEND:20090720T000000Z
LOCATION:St. Francis YC
SUMMARY:Albert T. Simpson
CLASS:PUBLIC
DESCRIPTION:A Season\, Weigh-in not required\, URL: https://event-manager.c
 ompete-at.com/stfrancisyc/ATS09
DTSTAMP:20260421T085738Z
END:VEVENT
END:VCALENDAR