BEGIN:VCALENDAR
VERSION:2.0
PRODID:www.sfj105.org
BEGIN:VEVENT
UID:69e73cc2115bd
DTSTART:20181110T170000Z
SEQUENCE:0
TRANSP:OPAQUE
DTEND:20181112T010000Z
LOCATION:Berkeley YC
SUMMARY:Berkeley YC 2018-2019 Midwinters
CLASS:PUBLIC
DESCRIPTION:B Season\, Weigh-in not required\, 11/10-11\, 12/8-9\, 1/12-13\
 , 2/9-10\, URL: https://berkeleyyc.org/race/2018-2019-midwinters
DTSTAMP:20260421T090050Z
END:VEVENT
END:VCALENDAR