BEGIN:VCALENDAR
VERSION:2.0
PRODID:www.sfj105.org
BEGIN:VEVENT
UID:69e73c686abda
DTSTART:20181110T170000Z
SEQUENCE:0
TRANSP:OPAQUE
DTEND:20181111T010000Z
LOCATION:Sausalito YC
SUMMARY:RegattaPRO Midwinters 2018-2019
CLASS:PUBLIC
DESCRIPTION:B Season\, Weigh-in not required\, Dates are 11/10\, 12/8\, 1/1
 2\, 2/9\n\nThis series has the biggest midwinter turnout\, URL: https://ww
 w.regattatoolbox.com/eventDetails?eventID=Bgid9xQVZf
DTSTAMP:20260421T085920Z
END:VEVENT
END:VCALENDAR