BEGIN:VCALENDAR
VERSION:2.0
PRODID:www.sfj105.org
BEGIN:VEVENT
UID:69e771f4d12ea
DTSTART:20181105T170000Z
SEQUENCE:0
TRANSP:OPAQUE
DTEND:20181106T010000Z
LOCATION:St. Francis YC
SUMMARY:Annual General Meeting
CLASS:PUBLIC
DESCRIPTION:B Season\, Weigh-in not required\, 6pm.  Via conference call\, 
 details TBD
DTSTAMP:20260421T124748Z
END:VEVENT
END:VCALENDAR