BEGIN:VCALENDAR
VERSION:2.0
PRODID:www.sfj105.org
BEGIN:VEVENT
UID:69e73c01e7938
DTSTART:20181110T170000Z
SEQUENCE:0
TRANSP:OPAQUE
DTEND:20181111T010000Z
LOCATION:Berkeley YC
SUMMARY:Awards Banquet
CLASS:PUBLIC
DESCRIPTION:B Season\, Weigh-in not required\, Time TBD
DTSTAMP:20260421T085737Z
END:VEVENT
END:VCALENDAR