BEGIN:VCALENDAR
VERSION:2.0
PRODID:www.sfj105.org
BEGIN:VEVENT
UID:69e73cc38fa86
DTSTART:20180913T160000Z
SEQUENCE:0
TRANSP:OPAQUE
DTEND:20180917T000000Z
LOCATION:St. Francis YC
SUMMARY:Rolex Big Boat Series
CLASS:PUBLIC
DESCRIPTION:A Season\, Weigh-in  required
DTSTAMP:20260421T090051Z
END:VEVENT
END:VCALENDAR