BEGIN:VCALENDAR
VERSION:2.0
PRODID:www.sfj105.org
BEGIN:VEVENT
UID:69e73c636920e
DTSTART:20180616T160000Z
SEQUENCE:0
TRANSP:OPAQUE
DTEND:20180618T000000Z
LOCATION:San Francisco YC
SUMMARY:June Invitational
CLASS:PUBLIC
DESCRIPTION:A Season\, Weigh-in  required
DTSTAMP:20260421T085915Z
END:VEVENT
END:VCALENDAR