BEGIN:VCALENDAR
VERSION:2.0
PRODID:www.sfj105.org
BEGIN:VEVENT
UID:69e73c7ce22a8
DTSTART:20180519T160000Z
SEQUENCE:0
TRANSP:OPAQUE
DTEND:20180521T000000Z
LOCATION:San Francisco YC
SUMMARY:Elite Keel
CLASS:PUBLIC
DESCRIPTION:A Season\, Weigh-in not required
DTSTAMP:20260421T085940Z
END:VEVENT
END:VCALENDAR