BEGIN:VCALENDAR
VERSION:2.0
PRODID:www.sfj105.org
BEGIN:VEVENT
UID:69e73ca13344b
DTSTART:20180428T160000Z
SEQUENCE:0
TRANSP:OPAQUE
DTEND:20180430T000000Z
LOCATION:Vallejo YC
SUMMARY:The Great Vallejo Race
CLASS:PUBLIC
DESCRIPTION:B Season\, Weigh-in not required\, URL: https://www.jibeset.net
 /YRA000.php?RG=T006273136
DTSTAMP:20260421T090017Z
END:VEVENT
END:VCALENDAR