BEGIN:VCALENDAR
VERSION:2.0
PRODID:www.sfj105.org
BEGIN:VEVENT
UID:69e73cc3583f1
DTSTART:20180407T160000Z
SEQUENCE:0
TRANSP:OPAQUE
DTEND:20180409T000000Z
LOCATION:St. Francis YC
SUMMARY:J/Fest
CLASS:PUBLIC
DESCRIPTION:A Season\, Weigh-in not required
DTSTAMP:20260421T090051Z
END:VEVENT
END:VCALENDAR