BEGIN:VCALENDAR
VERSION:2.0
PRODID:www.sfj105.org
BEGIN:VEVENT
UID:69e73bd3d3870
DTSTART:20090530T160000Z
SEQUENCE:0
TRANSP:OPAQUE
DTEND:20090601T000000Z
LOCATION:San Francisco YC
SUMMARY:SFYC Summer Invitational
CLASS:PUBLIC
DESCRIPTION:A Season\, Weigh-in  required
DTSTAMP:20260421T085651Z
END:VEVENT
END:VCALENDAR