BEGIN:VCALENDAR
VERSION:2.0
PRODID:www.sfj105.org
BEGIN:VEVENT
UID:69e73c686af69
DTSTART:20180310T170000Z
SEQUENCE:0
TRANSP:OPAQUE
DTEND:20180312T000000Z
LOCATION:Richmond YC
SUMMARY:Big Daddy
CLASS:PUBLIC
DESCRIPTION:B Season\, Weigh-in not required\, URL: http://www.richmondyc.o
 rg/Page/13823~886710/RYC-Racing-Events-Schedule-2018
DTSTAMP:20260421T085920Z
END:VEVENT
END:VCALENDAR