BEGIN:VCALENDAR
VERSION:2.0
PRODID:www.sfj105.org
BEGIN:VEVENT
UID:69e73c7c0fb04
DTSTART:20180317T160000Z
SEQUENCE:0
TRANSP:OPAQUE
DTEND:20180319T000000Z
LOCATION:St. Francis YC
SUMMARY:Spring One Design
CLASS:PUBLIC
DESCRIPTION:A Season\, Weigh-in  required
DTSTAMP:20260421T085940Z
END:VEVENT
END:VCALENDAR