BEGIN:VCALENDAR
VERSION:2.0
PRODID:www.sfj105.org
BEGIN:VEVENT
UID:69e73c6250676
DTSTART:20180127T170000Z
SEQUENCE:0
TRANSP:OPAQUE
DTEND:20180128T010000Z
LOCATION:Singlehanded Sailing Society
SUMMARY:Three Bridge Fiasco
CLASS:PUBLIC
DESCRIPTION:B Season\, Weigh-in not required\, URL: http://sfbaysss.org/mai
 n/racing/
DTSTAMP:20260421T085914Z
END:VEVENT
END:VCALENDAR