BEGIN:VCALENDAR
VERSION:2.0
PRODID:www.sfj105.org
BEGIN:VEVENT
UID:69e73c689e508
DTSTART:20180120T170000Z
SEQUENCE:0
TRANSP:OPAQUE
DTEND:20180219T010000Z
LOCATION:St. Francis YC
SUMMARY:Corinthian YC Midwinters
CLASS:PUBLIC
DESCRIPTION:B Season\, Weigh-in not required\, 1/20\, 1/21\, 2/17\, 2/18
DTSTAMP:20260421T085920Z
END:VEVENT
END:VCALENDAR