BEGIN:VCALENDAR
VERSION:2.0
PRODID:www.sfj105.org
BEGIN:VEVENT
UID:69e73c2409ebe
DTSTART:20180106T170000Z
SEQUENCE:0
TRANSP:OPAQUE
DTEND:20180107T010000Z
LOCATION:Berkeley YC
SUMMARY:Berkeley YC Midwinters
CLASS:PUBLIC
DESCRIPTION:B Season\, Weigh-in not required\, Various dates
DTSTAMP:20260421T085812Z
END:VEVENT
END:VCALENDAR