BEGIN:VCALENDAR
VERSION:2.0
PRODID:www.sfj105.org
BEGIN:VEVENT
UID:69e76dd420115
DTSTART:20171011T160000Z
SEQUENCE:0
TRANSP:OPAQUE
DTEND:20171012T000000Z
LOCATION:Berkeley YC
SUMMARY:Annual General Meeting and Party
CLASS:PUBLIC
DESCRIPTION:B Season\, Weigh-in not required
DTSTAMP:20260421T123012Z
END:VEVENT
END:VCALENDAR