BEGIN:VCALENDAR
VERSION:2.0
PRODID:www.sfj105.org
BEGIN:VEVENT
UID:69e7396611783
DTSTART:20170818T160000Z
SEQUENCE:0
TRANSP:OPAQUE
DTEND:20170819T000000Z
LOCATION:St. Francis YC
SUMMARY:Aldo Alessio
CLASS:PUBLIC
DESCRIPTION:B Season\, Weigh-in not required\, Ocean Race
DTSTAMP:20260421T084630Z
END:VEVENT
END:VCALENDAR