BEGIN:VCALENDAR
VERSION:2.0
PRODID:www.sfj105.org
BEGIN:VEVENT
UID:69e738ab1c05a
DTSTART:20090516T160000Z
SEQUENCE:0
TRANSP:OPAQUE
DTEND:20090518T000000Z
LOCATION:St. Francis YC
SUMMARY:Stone Cup
CLASS:PUBLIC
DESCRIPTION:A Season\, Weigh-in not required
DTSTAMP:20260421T084323Z
END:VEVENT
END:VCALENDAR