BEGIN:VCALENDAR
VERSION:2.0
PRODID:www.sfj105.org
BEGIN:VEVENT
UID:69e73c2449429
DTSTART:20170722T160000Z
SEQUENCE:0
TRANSP:OPAQUE
DTEND:20170724T000000Z
LOCATION:Sausalito YC
SUMMARY:Sausalito One Design Invitational
CLASS:PUBLIC
DESCRIPTION:A Season\, Weigh-in not required
DTSTAMP:20260421T085812Z
END:VEVENT
END:VCALENDAR