BEGIN:VCALENDAR
VERSION:2.0
PRODID:www.sfj105.org
BEGIN:VEVENT
UID:69e73bffa7b86
DTSTART:20170715T160000Z
SEQUENCE:0
TRANSP:OPAQUE
DTEND:20170717T000000Z
LOCATION:South Beach YC
SUMMARY:Bay Bridge Regatta
CLASS:PUBLIC
DESCRIPTION:B Season\, Weigh-in not required
DTSTAMP:20260421T085735Z
END:VEVENT
END:VCALENDAR