BEGIN:VCALENDAR
VERSION:2.0
PRODID:www.sfj105.org
BEGIN:VEVENT
UID:69e73bfe35ea7
DTSTART:20170610T160000Z
SEQUENCE:0
TRANSP:OPAQUE
DTEND:20170612T000000Z
LOCATION:San Francisco YC
SUMMARY:June Invitational
CLASS:PUBLIC
DESCRIPTION:A Season\, Weigh-in  required
DTSTAMP:20260421T085734Z
END:VEVENT
END:VCALENDAR