BEGIN:VCALENDAR
VERSION:2.0
PRODID:www.sfj105.org
BEGIN:VEVENT
UID:69e73c6ec7b16
DTSTART:20170513T160000Z
SEQUENCE:0
TRANSP:OPAQUE
DTEND:20170515T000000Z
LOCATION:St. Francis YC
SUMMARY:J/105 Series Stopover
CLASS:PUBLIC
DESCRIPTION:A Season\, Weigh-in not required
DTSTAMP:20260421T085926Z
END:VEVENT
END:VCALENDAR