BEGIN:VCALENDAR
VERSION:2.0
PRODID:www.sfj105.org
BEGIN:VEVENT
UID:69e73b6fab5f5
DTSTART:20170506T160000Z
SEQUENCE:0
TRANSP:OPAQUE
DTEND:20170508T000000Z
LOCATION:Richmond YC
SUMMARY:Great Vallejo Race
CLASS:PUBLIC
DESCRIPTION:B Season\, Weigh-in not required
DTSTAMP:20260421T085511Z
END:VEVENT
END:VCALENDAR