BEGIN:VCALENDAR
VERSION:2.0
PRODID:www.sfj105.org
BEGIN:VEVENT
UID:69e737e951e24
DTSTART:20170429T160000Z
SEQUENCE:0
TRANSP:OPAQUE
DTEND:20170501T000000Z
LOCATION:San Francisco YC
SUMMARY:Resin Regatta
CLASS:PUBLIC
DESCRIPTION:A Season\, Weigh-in not required
DTSTAMP:20260421T084009Z
END:VEVENT
END:VCALENDAR