BEGIN:VCALENDAR
VERSION:2.0
PRODID:www.sfj105.org
BEGIN:VEVENT
UID:69e73c62541d0
DTSTART:20170304T170000Z
SEQUENCE:0
TRANSP:OPAQUE
DTEND:20170306T010000Z
LOCATION:St. Francis YC
SUMMARY:Spring One Design
CLASS:PUBLIC
DESCRIPTION:A Season\, Weigh-in  required
DTSTAMP:20260421T085914Z
END:VEVENT
END:VCALENDAR