BEGIN:VCALENDAR
VERSION:2.0
PRODID:www.sfj105.org
BEGIN:VEVENT
UID:69e4d6efd1b65
DTSTART:20090502T160000Z
SEQUENCE:0
TRANSP:OPAQUE
DTEND:20090504T000000Z
LOCATION:Vallejo YC
SUMMARY:Vallejo Race
CLASS:PUBLIC
DESCRIPTION:B Season\, Weigh-in not required\, URL: http://www.yra.org/sign
 up/product.php?productid=13&cat=2&page=1
DTSTAMP:20260419T132151Z
END:VEVENT
END:VCALENDAR