BEGIN:VCALENDAR
VERSION:2.0
PRODID:www.sfj105.org
BEGIN:VEVENT
UID:69e735c099a3e
DTSTART:20170311T170000Z
SEQUENCE:0
TRANSP:OPAQUE
DTEND:20170313T000000Z
LOCATION:Richmond YC
SUMMARY:Big Daddy
CLASS:PUBLIC
DESCRIPTION:B Season\, Weigh-in not required\, URL: http://www.richmondyc.o
 rg/page/13823~810808/RYC-Racing-Events-Schedule-2017
DTSTAMP:20260421T083056Z
END:VEVENT
END:VCALENDAR