BEGIN:VCALENDAR
VERSION:2.0
PRODID:www.sfj105.org
BEGIN:VEVENT
UID:69e73ca11afdf
DTSTART:20170128T170000Z
SEQUENCE:0
TRANSP:OPAQUE
DTEND:20170129T010000Z
LOCATION:Singlehanded Sailing Society
SUMMARY:Three Bridge Fiasco
CLASS:PUBLIC
DESCRIPTION:B Season\, Weigh-in not required\, URL: http://sfbaysss.org/mai
 n/
DTSTAMP:20260421T090017Z
END:VEVENT
END:VCALENDAR